BEGIN:VCALENDAR
VERSION:2.0
PRODID:-//hacksw/handcal//NONSGML v1.0//EN
CALSCALE:GREGORIAN
BEGIN:VEVENT
DTEND:20260422T150000Z
DTSTART:20260422T130000Z
LOCATION:Programmkino Ost
SUMMARY:Der Magier im Kreml
UID:programmkino-ost-show40957
GEO:51.03911;13.80653
URL;VALUE=URI:https://programmkino-ost.de/shows/40957
END:VEVENT
END:VCALENDAR