BEGIN:VCALENDAR
VERSION:2.0
PRODID:-//hacksw/handcal//NONSGML v1.0//EN
CALSCALE:GREGORIAN
BEGIN:VEVENT
DTEND:20260420T154500Z
DTSTART:20260420T134500Z
LOCATION:Programmkino Ost
SUMMARY:Hoppers
UID:programmkino-ost-show40971
GEO:51.03911;13.80653
URL;VALUE=URI:https://programmkino-ost.de/shows/40971
END:VEVENT
END:VCALENDAR