BEGIN:VCALENDAR
VERSION:2.0
PRODID:-//hacksw/handcal//NONSGML v1.0//EN
CALSCALE:GREGORIAN
BEGIN:VEVENT
DTEND:20260421T150000Z
DTSTART:20260421T130000Z
LOCATION:Programmkino Ost
SUMMARY:Vier minus drei
UID:programmkino-ost-show41013
GEO:51.03911;13.80653
URL;VALUE=URI:https://programmkino-ost.de/shows/41013
END:VEVENT
END:VCALENDAR