BEGIN:VCALENDAR
VERSION:2.0
PRODID:-//hacksw/handcal//NONSGML v1.0//EN
CALSCALE:GREGORIAN
BEGIN:VEVENT
DESCRIPTION:Preview
Sneak Preview
27. Französische Filmtage Dresden 7.-13. Mai 2026
DTEND:20260512T201500Z
DTSTART:20260512T181500Z
LOCATION:Programmkino Ost
SUMMARY:Sneak Preview
UID:programmkino-ost-show41051
GEO:51.03911;13.80653
URL;VALUE=URI:https://programmkino-ost.de/shows/41051
END:VEVENT
END:VCALENDAR