BEGIN:VCALENDAR
VERSION:2.0
PRODID:-//hacksw/handcal//NONSGML v1.0//EN
CALSCALE:GREGORIAN
BEGIN:VEVENT
DTEND:20260425T174500Z
DTSTART:20260425T154500Z
LOCATION:Programmkino Ost
SUMMARY:Die reichste Frau der Welt
UID:programmkino-ost-show41091
GEO:51.03911;13.80653
URL;VALUE=URI:https://programmkino-ost.de/shows/41091
END:VEVENT
END:VCALENDAR