BEGIN:VCALENDAR
VERSION:2.0
PRODID:-//hacksw/handcal//NONSGML v1.0//EN
CALSCALE:GREGORIAN
BEGIN:VEVENT
DTEND:20260428T172000Z
DTSTART:20260428T152000Z
LOCATION:Programmkino Ost
SUMMARY:Michael
UID:programmkino-ost-show41125
GEO:51.03911;13.80653
URL;VALUE=URI:https://programmkino-ost.de/shows/41125
END:VEVENT
END:VCALENDAR