BEGIN:VCALENDAR
VERSION:2.0
PRODID:-//hacksw/handcal//NONSGML v1.0//EN
CALSCALE:GREGORIAN
BEGIN:VEVENT
DTEND:20260424T203000Z
DTSTART:20260424T183000Z
LOCATION:Programmkino Ost
SUMMARY:Paris Murder Mystery
UID:programmkino-ost-show41136
GEO:51.03911;13.80653
URL;VALUE=URI:https://programmkino-ost.de/shows/41136
END:VEVENT
END:VCALENDAR