BEGIN:VCALENDAR
VERSION:2.0
PRODID:-//hacksw/handcal//NONSGML v1.0//EN
CALSCALE:GREGORIAN
BEGIN:VEVENT
DTEND:20260429T181500Z
DTSTART:20260429T161500Z
LOCATION:Programmkino Ost
SUMMARY:Paris Murder Mystery
UID:programmkino-ost-show41141
GEO:51.03911;13.80653
URL;VALUE=URI:https://programmkino-ost.de/shows/41141
END:VEVENT
END:VCALENDAR