BEGIN:VCALENDAR
VERSION:2.0
PRODID:-//hacksw/handcal//NONSGML v1.0//EN
CALSCALE:GREGORIAN
BEGIN:VEVENT
DTEND:20260428T173000Z
DTSTART:20260428T153000Z
LOCATION:Programmkino Ost
SUMMARY:Wir Erben
UID:programmkino-ost-show41154
GEO:51.03911;13.80653
URL;VALUE=URI:https://programmkino-ost.de/shows/41154
END:VEVENT
END:VCALENDAR