BEGIN:VCALENDAR
VERSION:2.0
PRODID:-//hacksw/handcal//NONSGML v1.0//EN
CALSCALE:GREGORIAN
BEGIN:VEVENT
DESCRIPTION:38. Filmfest Dresden 14.-19.4.2026
DTEND:20260418T160000Z
DTSTART:20260418T140000Z
LOCATION:Programmkino Ost
SUMMARY:Kids 1: Tierisch viel entdecken
UID:programmkino-ost-show40669
GEO:51.03911;13.80653
URL;VALUE=URI:https://programmkino-ost.de/v5/pkodb2/public/index.php/shows/40669
END:VEVENT
END:VCALENDAR