BEGIN:VCALENDAR
VERSION:2.0
PRODID:-//hacksw/handcal//NONSGML v1.0//EN
CALSCALE:GREGORIAN
BEGIN:VEVENT
DTEND:20260421T153000Z
DTSTART:20260421T133000Z
LOCATION:Programmkino Ost
SUMMARY:Die wilde Nordsee - Natur\, die sich nicht zähmen lässt
UID:programmkino-ost-show40959
GEO:51.03911;13.80653
URL;VALUE=URI:https://programmkino-ost.de/v5/pkodb2/public/index.php/shows/40959
END:VEVENT
END:VCALENDAR