BEGIN:VCALENDAR
VERSION:2.0
PRODID:-//hacksw/handcal//NONSGML v1.0//EN
CALSCALE:GREGORIAN
BEGIN:VEVENT
DTEND:20260417T150000Z
DTSTART:20260417T130000Z
LOCATION:Programmkino Ost
SUMMARY:La Grazia
UID:programmkino-ost-show40974
GEO:51.03911;13.80653
URL;VALUE=URI:https://programmkino-ost.de/v5/pkodb2/public/index.php/shows/40974
END:VEVENT
END:VCALENDAR