BEGIN:VCALENDAR
VERSION:2.0
PRODID:-//hacksw/handcal//NONSGML v1.0//EN
CALSCALE:GREGORIAN
BEGIN:VEVENT
DTEND:20260418T134500Z
DTSTART:20260418T114500Z
LOCATION:Programmkino Ost
SUMMARY:Les Misérables - Die Geschichte von Jean Valjean
UID:programmkino-ost-show40976
GEO:51.03911;13.80653
URL;VALUE=URI:https://programmkino-ost.de/v5/pkodb2/public/index.php/shows/40976
END:VEVENT
END:VCALENDAR