BEGIN:VCALENDAR
VERSION:2.0
PRODID:-//hacksw/handcal//NONSGML v1.0//EN
CALSCALE:GREGORIAN
BEGIN:VEVENT
DTEND:20260418T133000Z
DTSTART:20260418T113000Z
LOCATION:Programmkino Ost
SUMMARY:Nouvelle Vague
UID:programmkino-ost-show40981
GEO:51.03911;13.80653
URL;VALUE=URI:https://programmkino-ost.de/v5/pkodb2/public/index.php/shows/40981
END:VEVENT
END:VCALENDAR