BEGIN:VCALENDAR
VERSION:2.0
PRODID:-//hacksw/handcal//NONSGML v1.0//EN
CALSCALE:GREGORIAN
BEGIN:VEVENT
DESCRIPTION:Übersehen
27. Französische Filmtage Dresden 7.-13. Mai 2026
DTEND:20260513T203000Z
DTSTART:20260513T183000Z
LOCATION:Programmkino Ost
SUMMARY:15 Liebesbeweise
UID:programmkino-ost-show41023
GEO:51.03911;13.80653
URL;VALUE=URI:https://programmkino-ost.de/v5/pkodb2/public/index.php/shows/41023
END:VEVENT
END:VCALENDAR