BEGIN:VCALENDAR
VERSION:2.0
PRODID:-//hacksw/handcal//NONSGML v1.0//EN
CALSCALE:GREGORIAN
BEGIN:VEVENT
DESCRIPTION:Animation Special
27. Französische Filmtage Dresden 7.-13. Mai 2026
DTEND:20260511T173000Z
DTSTART:20260511T153000Z
LOCATION:Programmkino Ost
SUMMARY:Arco
UID:programmkino-ost-show41024
GEO:51.03911;13.80653
URL;VALUE=URI:https://programmkino-ost.de/v5/pkodb2/public/index.php/shows/41024
END:VEVENT
END:VCALENDAR