BEGIN:VCALENDAR
VERSION:2.0
PRODID:-//hacksw/handcal//NONSGML v1.0//EN
CALSCALE:GREGORIAN
BEGIN:VEVENT
DESCRIPTION:Dresdner Premieren
27. Französische Filmtage Dresden 7.-13. Mai 2026
DTEND:20260510T194500Z
DTSTART:20260510T174500Z
LOCATION:Programmkino Ost
SUMMARY:Couscous und Geheimnisse
UID:programmkino-ost-show41028
GEO:51.03911;13.80653
URL;VALUE=URI:https://programmkino-ost.de/v5/pkodb2/public/index.php/shows/41028
END:VEVENT
END:VCALENDAR