BEGIN:VCALENDAR
VERSION:2.0
PRODID:-//hacksw/handcal//NONSGML v1.0//EN
CALSCALE:GREGORIAN
BEGIN:VEVENT
DESCRIPTION:Kinderfilm
27. Französische Filmtage Dresden 7.-13. Mai 2026
DTEND:20260509T153000Z
DTSTART:20260509T133000Z
LOCATION:Programmkino Ost
SUMMARY:Die Schatzsuche im Blaumeisental
UID:programmkino-ost-show41032
GEO:51.03911;13.80653
URL;VALUE=URI:https://programmkino-ost.de/v5/pkodb2/public/index.php/shows/41032
END:VEVENT
END:VCALENDAR