BEGIN:VCALENDAR
VERSION:2.0
PRODID:-//hacksw/handcal//NONSGML v1.0//EN
CALSCALE:GREGORIAN
BEGIN:VEVENT
DESCRIPTION:Zu Gast: Roman Pliske\, Verleger Mitteldeutscher Verlag
Retrospektive Jacques Tati
27. Französische Filmtage Dresden 7.-13. Mai 2026
Körners Corner - reden über Film
DTEND:20260508T180000Z
DTSTART:20260508T160000Z
LOCATION:Programmkino Ost
SUMMARY:Jacques Tati – Sein Leben und seine Kunst
UID:programmkino-ost-show41061
GEO:51.03911;13.80653
URL;VALUE=URI:https://programmkino-ost.de/v5/pkodb2/public/index.php/shows/41061
END:VEVENT
END:VCALENDAR