BEGIN:VCALENDAR
VERSION:2.0
PRODID:-//hacksw/handcal//NONSGML v1.0//EN
CALSCALE:GREGORIAN
BEGIN:VEVENT
DTEND:20260426T134000Z
DTSTART:20260426T114000Z
LOCATION:Programmkino Ost
SUMMARY:Das Flüstern der Wälder
UID:programmkino-ost-show41082
GEO:51.03911;13.80653
URL;VALUE=URI:https://programmkino-ost.de/v5/pkodb2/public/index.php/shows/41082
END:VEVENT
END:VCALENDAR