BEGIN:VCALENDAR
VERSION:2.0
PRODID:-//hacksw/handcal//NONSGML v1.0//EN
CALSCALE:GREGORIAN
BEGIN:VEVENT
DTEND:20260427T150000Z
DTSTART:20260427T130000Z
LOCATION:Programmkino Ost
SUMMARY:Der Magier im Kreml
UID:programmkino-ost-show41086
GEO:51.03911;13.80653
URL;VALUE=URI:https://programmkino-ost.de/v5/pkodb2/public/index.php/shows/41086
END:VEVENT
END:VCALENDAR