BEGIN:VCALENDAR
VERSION:2.0
PRODID:-//hacksw/handcal//NONSGML v1.0//EN
CALSCALE:GREGORIAN
BEGIN:VEVENT
DTEND:20260429T141000Z
DTSTART:20260429T121000Z
LOCATION:Programmkino Ost
SUMMARY:Die Schatzsuche im Blaumeisental
UID:programmkino-ost-show41104
GEO:51.03911;13.80653
URL;VALUE=URI:https://programmkino-ost.de/v5/pkodb2/public/index.php/shows/41104
END:VEVENT
END:VCALENDAR