BEGIN:VCALENDAR
VERSION:2.0
PRODID:-//hacksw/handcal//NONSGML v1.0//EN
CALSCALE:GREGORIAN
BEGIN:VEVENT
DTEND:20260426T203000Z
DTSTART:20260426T183000Z
LOCATION:Programmkino Ost
SUMMARY:Paris Murder Mystery
UID:programmkino-ost-show41138
GEO:51.03911;13.80653
URL;VALUE=URI:https://programmkino-ost.de/v5/pkodb2/public/index.php/shows/41138
END:VEVENT
END:VCALENDAR